BEGIN:VCALENDAR
VERSION:2.0
PRODID:tilderadio schedule
DTSTAMP:20260424T231741Z
BEGIN:VEVENT
DTSTAMP:20260424T231741Z
DTEND:20260424T010000Z
DTSTART:20260424T000000Z
RRULE:FREQ=WEEKLY
SUMMARY:DJ netstash
UID:3eea66ad3acb6a53bbc316a6a0b7e4aa36daec85c4c1d4d998d4d9820a3ef4dc
 @tilderadio.org
END:VEVENT
BEGIN:VEVENT
DTSTAMP:20260424T231741Z
DTEND:20260424T020000Z
DTSTART:20260424T010000Z
RRULE:FREQ=WEEKLY
SUMMARY:DJ ffog
UID:1ef705c47533e501667a47008f8c519484cf2c452af9130581c3699f0752a76d
 @tilderadio.org
END:VEVENT
BEGIN:VEVENT
DTSTAMP:20260424T231741Z
DTEND:20260425T010000Z
DTSTART:20260425T000000Z
RRULE:FREQ=WEEKLY
SUMMARY:DJ G_Love
UID:88d800184482f9c8ec90eb85761216b5850c1ee8b35f064b0107e7ac2fb195f8
 @tilderadio.org
END:VEVENT
BEGIN:VEVENT
DTSTAMP:20260424T231741Z
DTEND:20260425T030000Z
DTSTART:20260425T020000Z
RRULE:FREQ=WEEKLY
SUMMARY:DJ guofu
UID:cfa2f2eb223084aae415c86cd0b97036aebbbfb41e0ae20a122dfb574b432bc5
 @tilderadio.org
END:VEVENT
BEGIN:VEVENT
DTSTAMP:20260424T231741Z
DTEND:20260425T150000Z
DTSTART:20260425T140000Z
RRULE:FREQ=WEEKLY
SUMMARY:DJ mendiablo
UID:b58dfad62296fe2819b563a33b7c0af098b3a8cf183f33c1f8cc880161e27efd
 @tilderadio.org
END:VEVENT
BEGIN:VEVENT
DTSTAMP:20260424T231741Z
DTEND:20260425T210000Z
DTSTART:20260425T200000Z
RRULE:FREQ=WEEKLY
SUMMARY:DJ mewt
UID:e33e2e49d941fe30697b42c29662f6eb2e85b4508e1c4f19a9047f90f665b169
 @tilderadio.org
END:VEVENT
BEGIN:VEVENT
DTSTAMP:20260424T231741Z
DTEND:20260426T010000Z
DTSTART:20260426T000000Z
RRULE:FREQ=WEEKLY
SUMMARY:DJ guofu
UID:01d5f5df0b43c9c496e5bf2f6256eeb1eeae92ff4a61d37bf4a5441d14c8a752
 @tilderadio.org
END:VEVENT
BEGIN:VEVENT
DTSTAMP:20260424T231741Z
DTEND:20260426T030000Z
DTSTART:20260426T020000Z
RRULE:FREQ=WEEKLY
SUMMARY:DJ controlfreak
UID:b6796057488210bcf061a0c4d01fe3c6b8ad55507e6e2b6de56933b4b92bfb45
 @tilderadio.org
END:VEVENT
BEGIN:VEVENT
DTSTAMP:20260424T231741Z
DTEND:20260427T030000Z
DTSTART:20260427T020000Z
RRULE:FREQ=WEEKLY
SUMMARY:DJ G_Love
UID:abce4d0ea517341daf8b4818f0ff01ab6958c14d60dcf6b670494ce3537546a3
 @tilderadio.org
END:VEVENT
BEGIN:VEVENT
DTSTAMP:20260424T231741Z
DTEND:20260427T070000Z
DTSTART:20260427T060000Z
RRULE:FREQ=WEEKLY
SUMMARY:DJ dokuja
UID:0b6df1003104872ae81a07ebec2e088f447a69dba5d81e8b0b39d4101ce704f8
 @tilderadio.org
END:VEVENT
BEGIN:VEVENT
DTSTAMP:20260424T231741Z
DTEND:20260427T140000Z
DTSTART:20260427T130000Z
RRULE:FREQ=WEEKLY
SUMMARY:DJ ten_forward
UID:589ecee3bec77a5b7ba96051f3139b277073f458e115b377a750c39263bfd007
 @tilderadio.org
END:VEVENT
BEGIN:VEVENT
DTSTAMP:20260424T231741Z
DTEND:20260428T020000Z
DTSTART:20260428T010000Z
RRULE:FREQ=WEEKLY
SUMMARY:DJ mcornick
UID:4d1a695abd18de9bb15a8ed87189097b03a0b5f920a5053c485994cd1869deb0
 @tilderadio.org
END:VEVENT
BEGIN:VEVENT
DTSTAMP:20260424T231741Z
DTEND:20260429T030000Z
DTSTART:20260429T020000Z
RRULE:FREQ=WEEKLY
SUMMARY:DJ controlfreak
UID:5323e539791c92792245cff68e4cae1bae73dbdb19889305394c752eec824dca
 @tilderadio.org
END:VEVENT
BEGIN:VEVENT
DTSTAMP:20260424T231741Z
DTEND:20260429T150000Z
DTSTART:20260429T140000Z
RRULE:FREQ=WEEKLY
SUMMARY:DJ Astral Peaks
UID:342ca3896f7d3c0114887dce370bb33aee32c0d3eccf418dbf89607094bd9311
 @tilderadio.org
END:VEVENT
BEGIN:VEVENT
DTSTAMP:20260424T231741Z
DTEND:20260430T010000Z
DTSTART:20260430T000000Z
RRULE:FREQ=WEEKLY
SUMMARY:DJ netstash
UID:50f1b0d8627b1f8ff0f6864e8b4152d58ebed2019738bcda5a968638deb40590
 @tilderadio.org
END:VEVENT
END:VCALENDAR
